BEGIN:VCALENDAR
VERSION:2.0
PRODID:-//NMRA RMR Roadrunners - Division 07 - ECPv6.15.20//NONSGML v1.0//EN
CALSCALE:GREGORIAN
METHOD:PUBLISH
X-WR-CALNAME:NMRA RMR Roadrunners - Division 07
X-ORIGINAL-URL:https://www.swmodelrailroaders.org
X-WR-CALDESC:Events for NMRA RMR Roadrunners - Division 07
REFRESH-INTERVAL;VALUE=DURATION:PT1H
X-Robots-Tag:noindex
X-PUBLISHED-TTL:PT1H
BEGIN:VTIMEZONE
TZID:America/Denver
BEGIN:DAYLIGHT
TZOFFSETFROM:-0700
TZOFFSETTO:-0600
TZNAME:MDT
DTSTART:20240310T090000
END:DAYLIGHT
BEGIN:STANDARD
TZOFFSETFROM:-0600
TZOFFSETTO:-0700
TZNAME:MST
DTSTART:20241103T080000
END:STANDARD
BEGIN:DAYLIGHT
TZOFFSETFROM:-0700
TZOFFSETTO:-0600
TZNAME:MDT
DTSTART:20250309T090000
END:DAYLIGHT
BEGIN:STANDARD
TZOFFSETFROM:-0600
TZOFFSETTO:-0700
TZNAME:MST
DTSTART:20251102T080000
END:STANDARD
BEGIN:DAYLIGHT
TZOFFSETFROM:-0700
TZOFFSETTO:-0600
TZNAME:MDT
DTSTART:20260308T090000
END:DAYLIGHT
BEGIN:STANDARD
TZOFFSETFROM:-0600
TZOFFSETTO:-0700
TZNAME:MST
DTSTART:20261101T080000
END:STANDARD
END:VTIMEZONE
BEGIN:VEVENT
DTSTART;VALUE=DATE:20250924
DTEND;VALUE=DATE:20250929
DTSTAMP:20260421T181529
CREATED:20250817T171833Z
LAST-MODIFIED:20250817T173549Z
UID:2312-1758672000-1759103999@www.swmodelrailroaders.org
SUMMARY:SNMNS at the Southern New Mexico State Fair
DESCRIPTION:The Southern New Mexico N Scalers will be hosting our annual Open House during the Fair. Come see our permanent Model Railroad layout in operation. \nFair tickets can be purchased through the Fair’s website or at the gate.
URL:https://www.swmodelrailroaders.org/event/snmns-at-the-southern-new-mexico-state-fair/
LOCATION:Southern New Mexico N Scalers Headquarters (AKA the “Q”)\, 12125 Robert Larson Blvd\, Las Cruces\, NM\, 88007
CATEGORIES:SNMNS
ORGANIZER;CN="SNMNS":MAILTO:info@swmodelrailroaders.org
END:VEVENT
END:VCALENDAR