BEGIN:VCALENDAR
VERSION:2.0
PRODID:-//NMRA RMR Roadrunners - Division 07 - ECPv6.15.20//NONSGML v1.0//EN
CALSCALE:GREGORIAN
METHOD:PUBLISH
X-ORIGINAL-URL:https://www.swmodelrailroaders.org
X-WR-CALDESC:Events for NMRA RMR Roadrunners - Division 07
REFRESH-INTERVAL;VALUE=DURATION:PT1H
X-Robots-Tag:noindex
X-PUBLISHED-TTL:PT1H
BEGIN:VTIMEZONE
TZID:America/Denver
BEGIN:DAYLIGHT
TZOFFSETFROM:-0700
TZOFFSETTO:-0600
TZNAME:MDT
DTSTART:20240310T090000
END:DAYLIGHT
BEGIN:STANDARD
TZOFFSETFROM:-0600
TZOFFSETTO:-0700
TZNAME:MST
DTSTART:20241103T080000
END:STANDARD
BEGIN:DAYLIGHT
TZOFFSETFROM:-0700
TZOFFSETTO:-0600
TZNAME:MDT
DTSTART:20250309T090000
END:DAYLIGHT
BEGIN:STANDARD
TZOFFSETFROM:-0600
TZOFFSETTO:-0700
TZNAME:MST
DTSTART:20251102T080000
END:STANDARD
BEGIN:DAYLIGHT
TZOFFSETFROM:-0700
TZOFFSETTO:-0600
TZNAME:MDT
DTSTART:20260308T090000
END:DAYLIGHT
BEGIN:STANDARD
TZOFFSETFROM:-0600
TZOFFSETTO:-0700
TZNAME:MST
DTSTART:20261101T080000
END:STANDARD
END:VTIMEZONE
BEGIN:VEVENT
DTSTART;TZID=America/Denver:20250906T080000
DTEND;TZID=America/Denver:20250906T170000
DTSTAMP:20260421T181559
CREATED:20250817T163032Z
LAST-MODIFIED:20250817T163032Z
UID:2304-1757145600-1757178000@www.swmodelrailroaders.org
SUMMARY:El Paso Model Railroad Association Open House\, Yard Sale\, and Swap Meet
DESCRIPTION: We’ll be selling an exciting selection of classic model trains\, locomotives\, freight and passenger cars\, cabooses\, buildings\, landscaping materials\, track\, and more!\nCome see our operating Model Railroad Layouts in multiple scales.
URL:https://www.swmodelrailroaders.org/event/el-paso-model-railroad-association-open-house-yard-sale-and-swap-meet/
LOCATION:RMHAEP HQ\, 6335 Vaughn Court\, El Paso\, TX\, United States
CATEGORIES:RMHAEP
END:VEVENT
END:VCALENDAR