BEGIN:VCALENDAR
VERSION:2.0
PRODID:-//NMRA RMR Roadrunners - Division 07 - ECPv6.15.20//NONSGML v1.0//EN
CALSCALE:GREGORIAN
METHOD:PUBLISH
X-WR-CALNAME:NMRA RMR Roadrunners - Division 07
X-ORIGINAL-URL:https://www.swmodelrailroaders.org
X-WR-CALDESC:Events for NMRA RMR Roadrunners - Division 07
REFRESH-INTERVAL;VALUE=DURATION:PT1H
X-Robots-Tag:noindex
X-PUBLISHED-TTL:PT1H
BEGIN:VTIMEZONE
TZID:America/Denver
BEGIN:DAYLIGHT
TZOFFSETFROM:-0700
TZOFFSETTO:-0600
TZNAME:MDT
DTSTART:20230312T090000
END:DAYLIGHT
BEGIN:STANDARD
TZOFFSETFROM:-0600
TZOFFSETTO:-0700
TZNAME:MST
DTSTART:20231105T080000
END:STANDARD
BEGIN:DAYLIGHT
TZOFFSETFROM:-0700
TZOFFSETTO:-0600
TZNAME:MDT
DTSTART:20240310T090000
END:DAYLIGHT
BEGIN:STANDARD
TZOFFSETFROM:-0600
TZOFFSETTO:-0700
TZNAME:MST
DTSTART:20241103T080000
END:STANDARD
BEGIN:DAYLIGHT
TZOFFSETFROM:-0700
TZOFFSETTO:-0600
TZNAME:MDT
DTSTART:20250309T090000
END:DAYLIGHT
BEGIN:STANDARD
TZOFFSETFROM:-0600
TZOFFSETTO:-0700
TZNAME:MST
DTSTART:20251102T080000
END:STANDARD
END:VTIMEZONE
BEGIN:VEVENT
DTSTART;TZID=America/Denver:20241010T100000
DTEND;TZID=America/Denver:20241010T140000
DTSTAMP:20260420T232621
CREATED:20241002T052517Z
LAST-MODIFIED:20241002T052517Z
UID:2147-1728554400-1728568800@www.swmodelrailroaders.org
SUMMARY:SNMNS Thursday Work Session
DESCRIPTION:Regularly Scheduled SNMNS Work Day \n10AM to 2PM \nTo get there\, use the West Gate of the Fairgrounds and follow the red arrow to get to the center Quonset hut.
URL:https://www.swmodelrailroaders.org/event/snmns-thursday-work-session-8/
LOCATION:Southern New Mexico N Scalers Headquarters (AKA the “Q”)\, 12125 Robert Larson Blvd\, Las Cruces\, NM\, 88007
CATEGORIES:SNMNS
ORGANIZER;CN="SNMNS":MAILTO:info@swmodelrailroaders.org
END:VEVENT
BEGIN:VEVENT
DTSTART;TZID=America/Denver:20241010T180000
DTEND;TZID=America/Denver:20241010T210000
DTSTAMP:20260420T232621
CREATED:20241002T044044Z
LAST-MODIFIED:20241002T044044Z
UID:2131-1728583200-1728594000@www.swmodelrailroaders.org
SUMMARY:EPMR Run Night
DESCRIPTION:Run Night \nOpen to all members and their guests
URL:https://www.swmodelrailroaders.org/event/epmr-run-night-12/
LOCATION:RMHAEP HQ\, 6335 Vaughn Court\, El Paso\, TX\, United States
CATEGORIES:RMHAEP
END:VEVENT
BEGIN:VEVENT
DTSTART;TZID=America/Denver:20241012T133000
DTEND;TZID=America/Denver:20241012T153000
DTSTAMP:20260420T232621
CREATED:20241002T051708Z
LAST-MODIFIED:20241002T051708Z
UID:2142-1728739800-1728747000@www.swmodelrailroaders.org
SUMMARY:NMRA Monthly Meeting
DESCRIPTION:The regularly scheduled monthly meeting of the NMRA RMR 7th Division Roadrunners \nHeld at the Las Cruces Railroad Museum (upstairs)
URL:https://www.swmodelrailroaders.org/event/nmra-monthly-meeting/
LOCATION:Las Cruces Railroad Museum\, 351 N. Mesilla ST\, Las Cruces\, NM\, 88005\, United States
CATEGORIES:NMRA
END:VEVENT
BEGIN:VEVENT
DTSTART;TZID=America/Denver:20241014T183000
DTEND;TZID=America/Denver:20241014T203000
DTSTAMP:20260420T232621
CREATED:20241002T052803Z
LAST-MODIFIED:20241002T052803Z
UID:2156-1728930600-1728937800@www.swmodelrailroaders.org
SUMMARY:SNMNS Monday Evening Work Session
DESCRIPTION:Regularly Scheduled SNMNS Evening Work Session \n6:30PM to 8:30PM \nTo get there\, use the West Gate of the Fairgrounds and follow the red arrow to get to the center Quonset hut.
URL:https://www.swmodelrailroaders.org/event/snmns-monday-evening-work-session-7/
LOCATION:Southern New Mexico N Scalers Headquarters (AKA the “Q”)\, 12125 Robert Larson Blvd\, Las Cruces\, NM\, 88007
CATEGORIES:SNMNS
ORGANIZER;CN="SNMNS":MAILTO:info@swmodelrailroaders.org
END:VEVENT
BEGIN:VEVENT
DTSTART;TZID=America/Denver:20241017T180000
DTEND;TZID=America/Denver:20241017T210000
DTSTAMP:20260420T232621
CREATED:20241002T044349Z
LAST-MODIFIED:20241002T044349Z
UID:2133-1729188000-1729198800@www.swmodelrailroaders.org
SUMMARY:EPMR October Board Meeting (and Run Night)
DESCRIPTION:Board Meeting (Rescheduled from October 10) \n \nRun Night \nOpen to all members and their guests
URL:https://www.swmodelrailroaders.org/event/epmr-october-board-meeting-and-run-night/
LOCATION:RMHAEP HQ\, 6335 Vaughn Court\, El Paso\, TX\, United States
CATEGORIES:RMHAEP
END:VEVENT
BEGIN:VEVENT
DTSTART;TZID=America/Denver:20241019T100000
DTEND;TZID=America/Denver:20241019T140000
DTSTAMP:20260420T232621
CREATED:20241002T052241Z
LAST-MODIFIED:20241002T052241Z
UID:2144-1729332000-1729346400@www.swmodelrailroaders.org
SUMMARY:SNMNS Monthly Meeting and Run Day
DESCRIPTION:Southern New Mexico N Scalers \nRegularly Scheduled Meeting and Run Day \nMeeting 10 – 10:30 AM \nTrain Running Fun 10:30 AM – 2 PM(ish) \nWe are located at the Southern New Mexico Fairgrounds west of Las Cruces (enter the west gate and follow the arrows to the center quonset hut)
URL:https://www.swmodelrailroaders.org/event/snmns-monthly-meeting-and-run-day-3/
LOCATION:Southern New Mexico N Scalers Headquarters (AKA the “Q”)\, 12125 Robert Larson Blvd\, Las Cruces\, NM\, 88007
CATEGORIES:SNMNS
ORGANIZER;CN="SNMNS":MAILTO:info@swmodelrailroaders.org
END:VEVENT
BEGIN:VEVENT
DTSTART;TZID=America/Denver:20241019T133000
DTEND;TZID=America/Denver:20241019T143000
DTSTAMP:20260420T232621
CREATED:20241002T045647Z
LAST-MODIFIED:20241002T045716Z
UID:2137-1729344600-1729348200@www.swmodelrailroaders.org
SUMMARY:EPMR Strategic Planning Meeting
DESCRIPTION:A round table discussion about what we want to accomplish in the near and far future. \nAll Club members are welcome to attend. \nTo entice you further\, there will be an operating session on Tony’s N-Scale BN Boise Division after the meeting
URL:https://www.swmodelrailroaders.org/event/epmr-strategic-planning-meeting/
LOCATION:Tony’s Place\, 6851 Pino Real DR\, El Paso\, TX\, 79912\, United States
CATEGORIES:RMHAEP
END:VEVENT
BEGIN:VEVENT
DTSTART;TZID=America/Denver:20241019T150000
DTEND;TZID=America/Denver:20241019T183000
DTSTAMP:20260420T232621
CREATED:20241002T050629Z
LAST-MODIFIED:20241002T050629Z
UID:2140-1729350000-1729362600@www.swmodelrailroaders.org
SUMMARY:N Scale BN Boise Division Operations Session 1
DESCRIPTION:Hosted by Tony Hammes on his N Scale Burlington Northern Boise Division Railroad \nThis inaugural operations session will feature many scheduled trains\, a 3:1 Fast Clock\, a Car Card system\, and jobs for 11 operators! \nAny operators are welcome to attend. If you own a Digitrax throttle\, please bring it. \nRSVP to Tony at 915-487-0501
URL:https://www.swmodelrailroaders.org/event/n-scale-bn-boise-division-operations-session-1/
LOCATION:Tony’s Place\, 6851 Pino Real DR\, El Paso\, TX\, 79912\, United States
CATEGORIES:RMHAEP
END:VEVENT
BEGIN:VEVENT
DTSTART;TZID=America/Denver:20241024T100000
DTEND;TZID=America/Denver:20241024T140000
DTSTAMP:20260420T232621
CREATED:20241002T052631Z
LAST-MODIFIED:20241002T052631Z
UID:2154-1729764000-1729778400@www.swmodelrailroaders.org
SUMMARY:SNMNS Thursday Work Session
DESCRIPTION:Regularly Scheduled SNMNS Work Day \n10AM to 2PM \nTo get there\, use the West Gate of the Fairgrounds and follow the red arrow to get to the center Quonset hut.
URL:https://www.swmodelrailroaders.org/event/snmns-thursday-work-session-9/
LOCATION:Southern New Mexico N Scalers Headquarters (AKA the “Q”)\, 12125 Robert Larson Blvd\, Las Cruces\, NM\, 88007
CATEGORIES:SNMNS
ORGANIZER;CN="SNMNS":MAILTO:info@swmodelrailroaders.org
END:VEVENT
BEGIN:VEVENT
DTSTART;TZID=America/Denver:20241024T180000
DTEND;TZID=America/Denver:20241024T210000
DTSTAMP:20260420T232621
CREATED:20241002T044645Z
LAST-MODIFIED:20241002T044645Z
UID:2135-1729792800-1729803600@www.swmodelrailroaders.org
SUMMARY:EPMR 4th Quarter Members Meeting
DESCRIPTION:All Aboard for the Fourth Quarter Members Meeting
URL:https://www.swmodelrailroaders.org/event/epmr-4th-quarter-members-meeting/
LOCATION:RMHAEP HQ\, 6335 Vaughn Court\, El Paso\, TX\, United States
CATEGORIES:RMHAEP
END:VEVENT
BEGIN:VEVENT
DTSTART;TZID=America/Denver:20241028T183000
DTEND;TZID=America/Denver:20241028T203000
DTSTAMP:20260420T232621
CREATED:20241002T052903Z
LAST-MODIFIED:20241002T052903Z
UID:2158-1730140200-1730147400@www.swmodelrailroaders.org
SUMMARY:SNMNS Monday Evening Work Session
DESCRIPTION:Regularly Scheduled SNMNS Evening Work Session \n6:30PM to 8:30PM \nTo get there\, use the West Gate of the Fairgrounds and follow the red arrow to get to the center Quonset hut.
URL:https://www.swmodelrailroaders.org/event/snmns-monday-evening-work-session-8/
LOCATION:Southern New Mexico N Scalers Headquarters (AKA the “Q”)\, 12125 Robert Larson Blvd\, Las Cruces\, NM\, 88007
CATEGORIES:SNMNS
ORGANIZER;CN="SNMNS":MAILTO:info@swmodelrailroaders.org
END:VEVENT
BEGIN:VEVENT
DTSTART;TZID=America/Denver:20241103T120000
DTEND;TZID=America/Denver:20241103T170000
DTSTAMP:20260420T232621
CREATED:20241027T205039Z
LAST-MODIFIED:20241027T205637Z
UID:2187-1730635200-1730653200@www.swmodelrailroaders.org
SUMMARY:Railroad Model and Historical Association of El Paso Open House
DESCRIPTION:The Railroad Model and Historical association of El Paso is hosting its Annual Open House \nNovember is National Model Railroading Month and we celebrate by opening our doors to the public for three Sundays in November \nNovember 3rd\, 10th\, and 17th from Noon to 5PM \nCome enjoy our operational Model Railroad Layouts \n6335 Vaughn Ct\, El Paso\, TX 79905
URL:https://www.swmodelrailroaders.org/event/rmhaep-open-house/
LOCATION:RMHAEP HQ\, 6335 Vaughn Court\, El Paso\, TX\, United States
CATEGORIES:RMHAEP
END:VEVENT
BEGIN:VEVENT
DTSTART;TZID=America/Denver:20241107T100000
DTEND;TZID=America/Denver:20241107T140000
DTSTAMP:20260420T232621
CREATED:20241027T194432Z
LAST-MODIFIED:20241027T194432Z
UID:2161-1730973600-1730988000@www.swmodelrailroaders.org
SUMMARY:SNMNS Thursday Work Session
DESCRIPTION:Regularly Scheduled SNMNS Work Day \n10AM to 2PM \nTo get there\, use the West Gate of the Fairgrounds and follow the red arrow to get to the center Quonset hut.
URL:https://www.swmodelrailroaders.org/event/snmns-thursday-work-session-10/
LOCATION:Southern New Mexico N Scalers Headquarters (AKA the “Q”)\, 12125 Robert Larson Blvd\, Las Cruces\, NM\, 88007
CATEGORIES:SNMNS
END:VEVENT
BEGIN:VEVENT
DTSTART;TZID=America/Denver:20241107T190000
DTEND;TZID=America/Denver:20241107T210000
DTSTAMP:20260420T232621
CREATED:20241027T204132Z
LAST-MODIFIED:20241027T210124Z
UID:2183-1731006000-1731013200@www.swmodelrailroaders.org
SUMMARY:RMHAEP Run Night
DESCRIPTION:Regularly scheduled run night. \nCome run trains on any of the layouts. \nThere’s plenty of work to do on the layouts or modules.
URL:https://www.swmodelrailroaders.org/event/epmr-run-night-13/
LOCATION:RMHAEP HQ\, 6335 Vaughn Court\, El Paso\, TX\, United States
CATEGORIES:RMHAEP
END:VEVENT
BEGIN:VEVENT
DTSTART;TZID=America/Denver:20241109T133000
DTEND;TZID=America/Denver:20241109T153000
DTSTAMP:20260420T232621
CREATED:20241027T201102Z
LAST-MODIFIED:20241027T201102Z
UID:2170-1731159000-1731166200@www.swmodelrailroaders.org
SUMMARY:NMRA Monthly Meeting
DESCRIPTION:The regularly scheduled monthly meeting of the NMRA RMR 7th Division Roadrunners \nHeld at the Las Cruces Railroad Museum (upstairs) and on Zoom video conferencing \nZoom meeting info will be sent to members prior to the meeting
URL:https://www.swmodelrailroaders.org/event/nmra-monthly-meeting-2/
LOCATION:Las Cruces Railroad Museum\, 351 N. Mesilla ST\, Las Cruces\, NM\, 88005\, United States
CATEGORIES:NMRA
END:VEVENT
BEGIN:VEVENT
DTSTART;TZID=America/Denver:20241110T120000
DTEND;TZID=America/Denver:20241110T170000
DTSTAMP:20260420T232621
CREATED:20241027T205229Z
LAST-MODIFIED:20241027T205607Z
UID:2189-1731240000-1731258000@www.swmodelrailroaders.org
SUMMARY:Railroad Model and Historical Association of El Paso Open House
DESCRIPTION:The Railroad Model and Historical association of El Paso is hosting its Annual Open House \nNovember is National Model Railroading Month and we celebrate by opening our doors to the public for three Sundays in November \nNovember 3rd\, 10th\, and 17th from Noon to 5PM \nCome enjoy our operational Model Railroad Layouts \n6335 Vaughn Ct\, El Paso\, TX 79905
URL:https://www.swmodelrailroaders.org/event/rmhaep-open-house-2/
LOCATION:RMHAEP HQ\, 6335 Vaughn Court\, El Paso\, TX\, United States
CATEGORIES:RMHAEP
END:VEVENT
BEGIN:VEVENT
DTSTART;TZID=America/Denver:20241111T183000
DTEND;TZID=America/Denver:20241111T203000
DTSTAMP:20260420T232621
CREATED:20241027T194829Z
LAST-MODIFIED:20241027T194829Z
UID:2166-1731349800-1731357000@www.swmodelrailroaders.org
SUMMARY:SNMNS Monday Evening Work Session
DESCRIPTION:Regularly Scheduled SNMNS Evening Work Session \n6:30PM to 8:30PM \nTo get there\, use the West Gate of the Fairgrounds and follow the red arrow to get to the center Quonset hut.
URL:https://www.swmodelrailroaders.org/event/snmns-monday-evening-work-session-9/
LOCATION:Southern New Mexico N Scalers Headquarters (AKA the “Q”)\, 12125 Robert Larson Blvd\, Las Cruces\, NM\, 88007
CATEGORIES:SNMNS
ORGANIZER;CN="SNMNS":MAILTO:info@swmodelrailroaders.org
END:VEVENT
BEGIN:VEVENT
DTSTART;TZID=America/Denver:20241114T190000
DTEND;TZID=America/Denver:20241114T210000
DTSTAMP:20260420T232621
CREATED:20241027T203816Z
LAST-MODIFIED:20241027T210320Z
UID:2181-1731610800-1731618000@www.swmodelrailroaders.org
SUMMARY:RMHAEP November Board Meeting
DESCRIPTION:Board Meeting (7PM to 8PM) \nBoard meeting is open to members but only Board Members can vote on motions \n \nRun Night (7PM to 9PM) \nPlease refrain from operating sound locomotives during the Board Meeting \nOpen to all members and their guests
URL:https://www.swmodelrailroaders.org/event/epmr-november-board-meeting/
LOCATION:RMHAEP HQ\, 6335 Vaughn Court\, El Paso\, TX\, United States
CATEGORIES:RMHAEP
END:VEVENT
BEGIN:VEVENT
DTSTART;TZID=America/Denver:20241116T090000
DTEND;TZID=America/Denver:20241116T170000
DTSTAMP:20260420T232621
CREATED:20241027T202644Z
LAST-MODIFIED:20241027T210238Z
UID:2177-1731747600-1731776400@www.swmodelrailroaders.org
SUMMARY:RMHAEP Sunflower Bank Holiday Layout Setup
DESCRIPTION:All hands on deck to assist setting up the Sunflower Bank Holiday Layout \nCome out and lend a hand setting up the Holiday Layout. No O Scale experience necessary!
URL:https://www.swmodelrailroaders.org/event/epmr-sunflower-bank-holiday-layout-setup/
LOCATION:Sunflower Bank\, 201 E. Main\, Suite 200\, El Paso\, TX\, 79901\, United States
CATEGORIES:RMHAEP
END:VEVENT
BEGIN:VEVENT
DTSTART;TZID=America/Denver:20241116T100000
DTEND;TZID=America/Denver:20241116T140000
DTSTAMP:20260420T232621
CREATED:20241027T202342Z
LAST-MODIFIED:20241027T202342Z
UID:2175-1731751200-1731765600@www.swmodelrailroaders.org
SUMMARY:SNMNS Monthly Meeting and Run Day
DESCRIPTION:Southern New Mexico N Scalers \nRegularly Scheduled Meeting and Run Day \nMeeting 10 – 10:30 AM \nTrain Running Fun 10:30 AM – 2 PM(ish) \nWe are located at the Southern New Mexico Fairgrounds west of Las Cruces (enter the west gate and follow the arrows to the center Quonset hut)
URL:https://www.swmodelrailroaders.org/event/snmns-monthly-meeting-and-run-day-4/
LOCATION:Southern New Mexico N Scalers Headquarters (AKA the “Q”)\, 12125 Robert Larson Blvd\, Las Cruces\, NM\, 88007
CATEGORIES:SNMNS
ORGANIZER;CN="SNMNS":MAILTO:info@swmodelrailroaders.org
END:VEVENT
BEGIN:VEVENT
DTSTART;TZID=America/Denver:20241117T120000
DTEND;TZID=America/Denver:20241117T170000
DTSTAMP:20260420T232621
CREATED:20241027T205324Z
LAST-MODIFIED:20241027T205540Z
UID:2191-1731844800-1731862800@www.swmodelrailroaders.org
SUMMARY:Railroad Model and Historical Association of El Paso Open House
DESCRIPTION:The Railroad Model and Historical association of El Paso is hosting its Annual Open House \nNovember is National Model Railroading Month and we celebrate by opening our doors to the public for three Sundays in November \nNovember 3rd\, 10th\, and 17th from Noon to 5PM \nCome enjoy our operational Model Railroad Layouts \n6335 Vaughn Ct\, El Paso\, TX 79905
URL:https://www.swmodelrailroaders.org/event/rmhaep-open-house-3/
LOCATION:RMHAEP HQ\, 6335 Vaughn Court\, El Paso\, TX\, United States
CATEGORIES:RMHAEP
END:VEVENT
BEGIN:VEVENT
DTSTART;TZID=America/Denver:20241121T100000
DTEND;TZID=America/Denver:20241121T140000
DTSTAMP:20260420T232621
CREATED:20241027T194605Z
LAST-MODIFIED:20241027T194605Z
UID:2164-1732183200-1732197600@www.swmodelrailroaders.org
SUMMARY:SNMNS Thursday Work Session
DESCRIPTION:Regularly Scheduled SNMNS Work Day \n10AM to 2PM \nTo get there\, use the West Gate of the Fairgrounds and follow the red arrow to get to the center Quonset hut.
URL:https://www.swmodelrailroaders.org/event/snmns-thursday-work-session-11/
LOCATION:Southern New Mexico N Scalers Headquarters (AKA the “Q”)\, 12125 Robert Larson Blvd\, Las Cruces\, NM\, 88007
CATEGORIES:SNMNS
END:VEVENT
BEGIN:VEVENT
DTSTART;TZID=America/Denver:20241121T190000
DTEND;TZID=America/Denver:20241121T210000
DTSTAMP:20260420T232621
CREATED:20241027T204257Z
LAST-MODIFIED:20241027T210156Z
UID:2185-1732215600-1732222800@www.swmodelrailroaders.org
SUMMARY:RMHAEP Run Night
DESCRIPTION:Regularly scheduled run night. \nCome run trains on any of the layouts. \nThere’s plenty of work to do on the layouts or modules.
URL:https://www.swmodelrailroaders.org/event/epmr-run-night-14/
LOCATION:RMHAEP HQ\, 6335 Vaughn Court\, El Paso\, TX\, United States
CATEGORIES:RMHAEP
END:VEVENT
BEGIN:VEVENT
DTSTART;TZID=America/Denver:20241125T183000
DTEND;TZID=America/Denver:20241125T203000
DTSTAMP:20260420T232621
CREATED:20241027T194947Z
LAST-MODIFIED:20241027T194947Z
UID:2168-1732559400-1732566600@www.swmodelrailroaders.org
SUMMARY:SNMNS Monday Evening Work Session
DESCRIPTION:Regularly Scheduled SNMNS Evening Work Session \n6:30PM to 8:30PM \nTo get there\, use the West Gate of the Fairgrounds and follow the red arrow to get to the center Quonset hut.
URL:https://www.swmodelrailroaders.org/event/snmns-monday-evening-work-session-10/
LOCATION:Southern New Mexico N Scalers Headquarters (AKA the “Q”)\, 12125 Robert Larson Blvd\, Las Cruces\, NM\, 88007
CATEGORIES:SNMNS
ORGANIZER;CN="SNMNS":MAILTO:info@swmodelrailroaders.org
END:VEVENT
BEGIN:VEVENT
DTSTART;TZID=America/Denver:20241205T100000
DTEND;TZID=America/Denver:20241205T140000
DTSTAMP:20260420T232621
CREATED:20241202T020740Z
LAST-MODIFIED:20241202T020740Z
UID:2204-1733392800-1733407200@www.swmodelrailroaders.org
SUMMARY:SNMNS Thursday Work Day
DESCRIPTION:Regularly Scheduled SNMNS Work Day \n10AM to 2PM \nTo get there\, use the West Gate of the Fairgrounds and follow the red arrow to get to the center Quonset hut.
URL:https://www.swmodelrailroaders.org/event/snmns-thursday-work-day-2/
LOCATION:Southern New Mexico N Scalers Headquarters (AKA the “Q”)\, 12125 Robert Larson Blvd\, Las Cruces\, NM\, 88007
CATEGORIES:SNMNS
ORGANIZER;CN="SNMNS":MAILTO:info@swmodelrailroaders.org
END:VEVENT
BEGIN:VEVENT
DTSTART;TZID=America/Denver:20241205T190000
DTEND;TZID=America/Denver:20241205T210000
DTSTAMP:20260420T232621
CREATED:20241202T022434Z
LAST-MODIFIED:20241202T022434Z
UID:2217-1733425200-1733432400@www.swmodelrailroaders.org
SUMMARY:RMHAEP Run Night
DESCRIPTION:Regularly scheduled run night. \nCome run trains on any of the layouts. \nThere’s plenty of work to do on the layouts or modules.
URL:https://www.swmodelrailroaders.org/event/rmhaep-run-night/
LOCATION:RMHAEP HQ\, 6335 Vaughn Court\, El Paso\, TX\, United States
CATEGORIES:RMHAEP
END:VEVENT
BEGIN:VEVENT
DTSTART;TZID=America/Denver:20241209T183000
DTEND;TZID=America/Denver:20241209T203000
DTSTAMP:20260420T232621
CREATED:20241202T021124Z
LAST-MODIFIED:20241202T021124Z
UID:2208-1733769000-1733776200@www.swmodelrailroaders.org
SUMMARY:SNMNS Monday Evening Work Session
DESCRIPTION:Regularly Scheduled SNMNS Evening Work Session \n6:30PM to 8:30PM \nTo get there\, use the West Gate of the Fairgrounds and follow the red arrow to get to the center Quonset hut.
URL:https://www.swmodelrailroaders.org/event/snmns-monday-evening-work-session-11/
LOCATION:Southern New Mexico N Scalers Headquarters (AKA the “Q”)\, 12125 Robert Larson Blvd\, Las Cruces\, NM\, 88007
CATEGORIES:SNMNS
ORGANIZER;CN="SNMNS":MAILTO:info@swmodelrailroaders.org
END:VEVENT
BEGIN:VEVENT
DTSTART;TZID=America/Denver:20241212T190000
DTEND;TZID=America/Denver:20241212T210000
DTSTAMP:20260420T232621
CREATED:20241202T022230Z
LAST-MODIFIED:20241202T022230Z
UID:2215-1734030000-1734037200@www.swmodelrailroaders.org
SUMMARY:RMHAEP December Board Meeting and Run Night
DESCRIPTION:Board Meeting (7PM to 8PM) \nBoard meeting is open to members but only Board Members can vote on motions \n \nRun Night (7PM to 9PM) \nPlease refrain from operating sound locomotives during the Board Meeting \nOpen to all members and their guests
URL:https://www.swmodelrailroaders.org/event/rmhaep-december-board-meeting-and-run-night/
LOCATION:RMHAEP HQ\, 6335 Vaughn Court\, El Paso\, TX\, United States
CATEGORIES:RMHAEP
END:VEVENT
BEGIN:VEVENT
DTSTART;TZID=America/Denver:20241214T133000
DTEND;TZID=America/Denver:20241214T153000
DTSTAMP:20260420T232621
CREATED:20241202T023037Z
LAST-MODIFIED:20241202T023037Z
UID:2223-1734183000-1734190200@www.swmodelrailroaders.org
SUMMARY:NMRA Roadrunners Monthly Meeting
DESCRIPTION:The regularly scheduled monthly meeting of the NMRA RMR 7th Division Roadrunners \nHeld at the Las Cruces Railroad Museum (upstairs) and on Zoom video conferencing \nZoom meeting info will be sent to members prior to the meeting
URL:https://www.swmodelrailroaders.org/event/nmra-roadrunners-monthly-meeting/
LOCATION:Las Cruces Railroad Museum\, 351 N. Mesilla ST\, Las Cruces\, NM\, 88005\, United States
CATEGORIES:NMRA
END:VEVENT
BEGIN:VEVENT
DTSTART;TZID=America/Denver:20241219T100000
DTEND;TZID=America/Denver:20241219T140000
DTSTAMP:20260420T232621
CREATED:20241202T020925Z
LAST-MODIFIED:20241202T020925Z
UID:2206-1734602400-1734616800@www.swmodelrailroaders.org
SUMMARY:SNMNS Thursday Work Day
DESCRIPTION:Regularly Scheduled SNMNS Work Day \n10AM to 2PM \nTo get there\, use the West Gate of the Fairgrounds and follow the red arrow to get to the center Quonset hut.
URL:https://www.swmodelrailroaders.org/event/snmns-thursday-work-day-3/
LOCATION:Southern New Mexico N Scalers Headquarters (AKA the “Q”)\, 12125 Robert Larson Blvd\, Las Cruces\, NM\, 88007
CATEGORIES:SNMNS
ORGANIZER;CN="SNMNS":MAILTO:info@swmodelrailroaders.org
END:VEVENT
END:VCALENDAR