BEGIN:VCALENDAR
VERSION:2.0
PRODID:-//NMRA RMR Roadrunners - Division 07 - ECPv6.15.20//NONSGML v1.0//EN
CALSCALE:GREGORIAN
METHOD:PUBLISH
X-WR-CALNAME:NMRA RMR Roadrunners - Division 07
X-ORIGINAL-URL:https://www.swmodelrailroaders.org
X-WR-CALDESC:Events for NMRA RMR Roadrunners - Division 07
REFRESH-INTERVAL;VALUE=DURATION:PT1H
X-Robots-Tag:noindex
X-PUBLISHED-TTL:PT1H
BEGIN:VTIMEZONE
TZID:America/Denver
BEGIN:DAYLIGHT
TZOFFSETFROM:-0700
TZOFFSETTO:-0600
TZNAME:MDT
DTSTART:20230312T090000
END:DAYLIGHT
BEGIN:STANDARD
TZOFFSETFROM:-0600
TZOFFSETTO:-0700
TZNAME:MST
DTSTART:20231105T080000
END:STANDARD
BEGIN:DAYLIGHT
TZOFFSETFROM:-0700
TZOFFSETTO:-0600
TZNAME:MDT
DTSTART:20240310T090000
END:DAYLIGHT
BEGIN:STANDARD
TZOFFSETFROM:-0600
TZOFFSETTO:-0700
TZNAME:MST
DTSTART:20241103T080000
END:STANDARD
BEGIN:DAYLIGHT
TZOFFSETFROM:-0700
TZOFFSETTO:-0600
TZNAME:MDT
DTSTART:20250309T090000
END:DAYLIGHT
BEGIN:STANDARD
TZOFFSETFROM:-0600
TZOFFSETTO:-0700
TZNAME:MST
DTSTART:20251102T080000
END:STANDARD
END:VTIMEZONE
BEGIN:VEVENT
DTSTART;TZID=America/Denver:20241003T180000
DTEND;TZID=America/Denver:20241003T210000
DTSTAMP:20260421T011238
CREATED:20241002T043907Z
LAST-MODIFIED:20241002T043907Z
UID:2129-1727978400-1727989200@www.swmodelrailroaders.org
SUMMARY:EPMR Run Night
DESCRIPTION:Run Night \nOpen to all members and their guests
URL:https://www.swmodelrailroaders.org/event/epmr-run-night-11/
LOCATION:RMHAEP HQ\, 6335 Vaughn Court\, El Paso\, TX\, United States
CATEGORIES:RMHAEP
END:VEVENT
BEGIN:VEVENT
DTSTART;TZID=America/Denver:20240926T180000
DTEND;TZID=America/Denver:20240926T210000
DTSTAMP:20260421T011238
CREATED:20240831T192126Z
LAST-MODIFIED:20240831T192126Z
UID:2099-1727373600-1727384400@www.swmodelrailroaders.org
SUMMARY:EPMR Run Night
DESCRIPTION:Run Night \nOpen to all members and their guests
URL:https://www.swmodelrailroaders.org/event/epmr-run-night-10/
LOCATION:RMHAEP HQ\, 6335 Vaughn Court\, El Paso\, TX\, United States
CATEGORIES:RMHAEP
END:VEVENT
BEGIN:VEVENT
DTSTART;VALUE=DATE:20240925
DTEND;VALUE=DATE:20240930
DTSTAMP:20260421T011238
CREATED:20240831T191400Z
LAST-MODIFIED:20240831T201808Z
UID:2093-1727222400-1727654399@www.swmodelrailroaders.org
SUMMARY:SNMNS Annual Open House
DESCRIPTION:The SNMNS will be hosting our annual open house during the Southern New Mexico State Fair \nCome see us any time the fair is open!
URL:https://www.swmodelrailroaders.org/event/snmns-annual-open-house/
LOCATION:NM
CATEGORIES:SNMNS
END:VEVENT
BEGIN:VEVENT
DTSTART;TZID=America/Denver:20240923T183000
DTEND;TZID=America/Denver:20240923T203000
DTSTAMP:20260421T011238
CREATED:20240831T190922Z
LAST-MODIFIED:20240831T190922Z
UID:2091-1727116200-1727123400@www.swmodelrailroaders.org
SUMMARY:SNMNS Monday Evening Work Session
DESCRIPTION:Regularly Scheduled SNMNS Evening Work Session \n6:30PM to 8:30PM \nTo get there\, use the West Gate of the Fairgrounds and follow the red arrow to get to the center Quonset hut.
URL:https://www.swmodelrailroaders.org/event/snmns-monday-evening-work-session-6/
LOCATION:Southern New Mexico N Scalers Headquarters (AKA the “Q”)\, 12125 Robert Larson Blvd\, Las Cruces\, NM\, 88007
CATEGORIES:SNMNS
ORGANIZER;CN="SNMNS":MAILTO:info@swmodelrailroaders.org
END:VEVENT
BEGIN:VEVENT
DTSTART;TZID=America/Denver:20240921T140000
DTEND;TZID=America/Denver:20240921T160000
DTSTAMP:20260421T011238
CREATED:20240831T193456Z
LAST-MODIFIED:20240831T193456Z
UID:2103-1726927200-1726934400@www.swmodelrailroaders.org
SUMMARY:N-Scale BN Boise Division Open House
DESCRIPTION:Tony Hammes will be hosting hosting an open house on his Burlington Northern Boise Division Layout in West El Paso. \nTwo Tours: \nTour 1: 2PM – 3PM \nTour2: 3PM – 4PM \nRSVP to Tony @ (915) 487-0501 or tonyhammes@gmail.com \n6851 Pino Real Drive
URL:https://www.swmodelrailroaders.org/event/n-scale-bn-boise-division-open-house/
LOCATION:NM
END:VEVENT
BEGIN:VEVENT
DTSTART;TZID=America/Denver:20240921T100000
DTEND;TZID=America/Denver:20240921T140000
DTSTAMP:20260421T011238
CREATED:20240831T190000Z
LAST-MODIFIED:20240831T190113Z
UID:2085-1726912800-1726927200@www.swmodelrailroaders.org
SUMMARY:SNMNS Meeting and Run Day
DESCRIPTION:SNMNS Monthly Meeting and Run Day \nClub Business Meeting 10:00AM to 10:30AM Typically \nRun Times Open to the Public 10:30AM – 2:00PM \nTo get there\, enter through the West gate of the Fairgrounds and follow the arrows:
URL:https://www.swmodelrailroaders.org/event/snmns-monthly-meeting-and-run-day-2/
LOCATION:Southern New Mexico N Scalers Headquarters (AKA the “Q”)\, 12125 Robert Larson Blvd\, Las Cruces\, NM\, 88007
CATEGORIES:SNMNS
END:VEVENT
BEGIN:VEVENT
DTSTART;TZID=America/Denver:20240919T180000
DTEND;TZID=America/Denver:20240919T210000
DTSTAMP:20260421T011238
CREATED:20240831T192009Z
LAST-MODIFIED:20240831T192009Z
UID:2097-1726768800-1726779600@www.swmodelrailroaders.org
SUMMARY:EPMR Run Night
DESCRIPTION:Run Night \nOpen to all members and their guests
URL:https://www.swmodelrailroaders.org/event/epmr-run-night-9/
LOCATION:RMHAEP HQ\, 6335 Vaughn Court\, El Paso\, TX\, United States
CATEGORIES:RMHAEP
END:VEVENT
BEGIN:VEVENT
DTSTART;TZID=America/Denver:20240919T100000
DTEND;TZID=America/Denver:20240919T140000
DTSTAMP:20260421T011238
CREATED:20240831T185511Z
LAST-MODIFIED:20240831T185511Z
UID:2083-1726740000-1726754400@www.swmodelrailroaders.org
SUMMARY:SNMNS Thursday Work Session
DESCRIPTION:Regularly Scheduled SNMNS Work Day \n10AM to 2PM \nTo get there\, use the West Gate of the Fairgrounds and follow the red arrow to get to the center Quonset hut.
URL:https://www.swmodelrailroaders.org/event/snmns-thursday-work-session-7/
LOCATION:Southern New Mexico N Scalers Headquarters (AKA the “Q”)\, 12125 Robert Larson Blvd\, Las Cruces\, NM\, 88007
CATEGORIES:SNMNS
ORGANIZER;CN="SNMNS":MAILTO:info@swmodelrailroaders.org
END:VEVENT
BEGIN:VEVENT
DTSTART;TZID=America/Denver:20240914T133000
DTEND;TZID=America/Denver:20240914T143000
DTSTAMP:20260421T011238
CREATED:20240831T194521Z
LAST-MODIFIED:20240831T194521Z
UID:2105-1726320600-1726324200@www.swmodelrailroaders.org
SUMMARY:NMRA Roadrunners Division Monthly Meeting
DESCRIPTION:The September meeting of the NMRA’s Rocky Mountain Region\, Roadrunners Division will be held on Saturday September 14 \nAt the Las Cruces Railroad Museum 1:30PM to 3:30 PM \nThere will be a Zoom session available for those unable to attend in person
URL:https://www.swmodelrailroaders.org/event/nmra-roadrunners-division-monthly-meeting/
LOCATION:Las Cruces Railroad Museum\, 351 N. Mesilla ST\, Las Cruces\, NM\, 88005\, United States
END:VEVENT
BEGIN:VEVENT
DTSTART;TZID=America/Denver:20240912T180000
DTEND;TZID=America/Denver:20240912T210000
DTSTAMP:20260421T011238
CREATED:20240831T192413Z
LAST-MODIFIED:20240831T192413Z
UID:2101-1726164000-1726174800@www.swmodelrailroaders.org
SUMMARY:EPMR Monthly Board Meeting and Run Night
DESCRIPTION:Regularly Scheduled Board Meeting \n \nRun Night \nOpen to all members and their guests
URL:https://www.swmodelrailroaders.org/event/epmr-monthly-board-meeting-and-run-night/
LOCATION:RMHAEP HQ\, 6335 Vaughn Court\, El Paso\, TX\, United States
CATEGORIES:RMHAEP
END:VEVENT
BEGIN:VEVENT
DTSTART;TZID=America/Denver:20240909T183000
DTEND;TZID=America/Denver:20240909T203000
DTSTAMP:20260421T011238
CREATED:20240831T190406Z
LAST-MODIFIED:20240831T190406Z
UID:2089-1725906600-1725913800@www.swmodelrailroaders.org
SUMMARY:SNMNS Monday Evening Work Session
DESCRIPTION:Regularly Scheduled SNMNS Evening Work Session \n6:30PM to 8:30PM \nTo get there\, use the West Gate of the Fairgrounds and follow the red arrow to get to the center Quonset hut.
URL:https://www.swmodelrailroaders.org/event/snmns-monday-evening-work-session-5/
LOCATION:Southern New Mexico N Scalers Headquarters (AKA the “Q”)\, 12125 Robert Larson Blvd\, Las Cruces\, NM\, 88007
CATEGORIES:SNMNS
ORGANIZER;CN="SNMNS":MAILTO:info@swmodelrailroaders.org
END:VEVENT
BEGIN:VEVENT
DTSTART;TZID=America/Denver:20240905T180000
DTEND;TZID=America/Denver:20240905T210000
DTSTAMP:20260421T011238
CREATED:20240831T191853Z
LAST-MODIFIED:20240831T191853Z
UID:2095-1725559200-1725570000@www.swmodelrailroaders.org
SUMMARY:EPMR Run Night
DESCRIPTION:Run Night \nOpen to all members and their guests
URL:https://www.swmodelrailroaders.org/event/epmr-run-night-8/
LOCATION:RMHAEP HQ\, 6335 Vaughn Court\, El Paso\, TX\, United States
CATEGORIES:RMHAEP
END:VEVENT
BEGIN:VEVENT
DTSTART;TZID=America/Denver:20240905T100000
DTEND;TZID=America/Denver:20240905T140000
DTSTAMP:20260421T011238
CREATED:20240831T185159Z
LAST-MODIFIED:20240831T185159Z
UID:2081-1725530400-1725544800@www.swmodelrailroaders.org
SUMMARY:SNMNS Thursday Work Session
DESCRIPTION:  \nRegularly Scheduled SNMNS Work Day \n10AM to 2PM \nTo get there\, use the West Gate of the Fairgrounds and follow the red arrow to get to the center Quonset hut.
URL:https://www.swmodelrailroaders.org/event/snmns-thursday-work-session-6/
LOCATION:Southern New Mexico N Scalers Headquarters (AKA the “Q”)\, 12125 Robert Larson Blvd\, Las Cruces\, NM\, 88007
CATEGORIES:SNMNS
ORGANIZER;CN="SNMNS":MAILTO:info@swmodelrailroaders.org
END:VEVENT
BEGIN:VEVENT
DTSTART;TZID=America/Denver:20240829T190000
DTEND;TZID=America/Denver:20240829T210000
DTSTAMP:20260421T011238
CREATED:20240805T235130Z
LAST-MODIFIED:20240805T235130Z
UID:2075-1724958000-1724965200@www.swmodelrailroaders.org
SUMMARY:EPMR Run Night
DESCRIPTION:Run Night \nOpen to all members and their guests
URL:https://www.swmodelrailroaders.org/event/epmr-run-night-7/
LOCATION:RMHAEP HQ\, 6335 Vaughn Court\, El Paso\, TX\, United States
CATEGORIES:RMHAEP
END:VEVENT
BEGIN:VEVENT
DTSTART;TZID=America/Denver:20240826T183000
DTEND;TZID=America/Denver:20240826T203000
DTSTAMP:20260421T011238
CREATED:20240805T234156Z
LAST-MODIFIED:20240805T234156Z
UID:2067-1724697000-1724704200@www.swmodelrailroaders.org
SUMMARY:SNMNS Monday Evening Work Session
DESCRIPTION:Regularly Scheduled SNMNS Evening Work Session \n6:30PM to 8:30PM \nTo get there\, use the West Gate of the Fairgrounds and follow the red arrow to get to the center Quonset hut.
URL:https://www.swmodelrailroaders.org/event/snmns-monday-evening-work-session-4/
LOCATION:Southern New Mexico N Scalers Headquarters (AKA the “Q”)\, 12125 Robert Larson Blvd\, Las Cruces\, NM\, 88007
CATEGORIES:SNMNS
ORGANIZER;CN="SNMNS":MAILTO:info@swmodelrailroaders.org
END:VEVENT
BEGIN:VEVENT
DTSTART;TZID=America/Denver:20240822T190000
DTEND;TZID=America/Denver:20240822T210000
DTSTAMP:20260421T011238
CREATED:20240805T235021Z
LAST-MODIFIED:20240805T235021Z
UID:2073-1724353200-1724360400@www.swmodelrailroaders.org
SUMMARY:EPMR Run Night
DESCRIPTION:Run Night \nOpen to all members and their guests
URL:https://www.swmodelrailroaders.org/event/epmr-run-night-6/
LOCATION:Southern New Mexico N Scalers Headquarters (AKA the “Q”)\, 12125 Robert Larson Blvd\, Las Cruces\, NM\, 88007
CATEGORIES:RMHAEP
END:VEVENT
BEGIN:VEVENT
DTSTART;TZID=America/Denver:20240822T100000
DTEND;TZID=America/Denver:20240822T140000
DTSTAMP:20260421T011238
CREATED:20240805T233910Z
LAST-MODIFIED:20240805T233910Z
UID:2063-1724320800-1724335200@www.swmodelrailroaders.org
SUMMARY:SNMNS Thursday Work Session
DESCRIPTION:Regularly Scheduled SNMNS Work Day \n10AM to 2PM \nTo get there\, use the West Gate of the Fairgrounds and follow the red arrow to get to the center Quonset hut.
URL:https://www.swmodelrailroaders.org/event/snmns-thursday-work-session-5/
LOCATION:Southern New Mexico N Scalers Headquarters (AKA the “Q”)\, 12125 Robert Larson Blvd\, Las Cruces\, NM\, 88007
CATEGORIES:SNMNS
ORGANIZER;CN="SNMNS":MAILTO:info@swmodelrailroaders.org
END:VEVENT
BEGIN:VEVENT
DTSTART;VALUE=DATE:20240820
DTEND;VALUE=DATE:20240826
DTSTAMP:20260421T011238
CREATED:20240805T232300Z
LAST-MODIFIED:20240805T233103Z
UID:2052-1724112000-1724630399@www.swmodelrailroaders.org
SUMMARY:Clovis Area Train Society at the Roosevelt County Fair
DESCRIPTION:The Clovis Area Train Society (CATS) will be operating a large modular layout at the Roosevelt County Fair in Portales New Mexico \nAugust 20 – 25 \nhttps://rooseveltcountyfair.com/
URL:https://www.swmodelrailroaders.org/event/clovis-area-train-society-at-the-roosevelt-county-fair/
LOCATION:NM
CATEGORIES:CATS
END:VEVENT
BEGIN:VEVENT
DTSTART;TZID=America/Denver:20240817T100000
DTEND;TZID=America/Denver:20240817T140000
DTSTAMP:20260421T011238
CREATED:20240810T211057Z
LAST-MODIFIED:20240810T211057Z
UID:2077-1723888800-1723903200@www.swmodelrailroaders.org
SUMMARY:SNMNS Monthly Meeting and Run Day
DESCRIPTION:SNMNS Monthly Meeting and Run Day \nClub Business Meeting 10:00AM to 10:30AM Typically \nRun Times Open to the Public 10:30AM – 2:00PM \nTo get there\, enter through the West gate of the Fairgrounds and follow the arrows:
URL:https://www.swmodelrailroaders.org/event/snmns-monthly-meeting-and-run-day/
LOCATION:Southern New Mexico N Scalers Headquarters (AKA the “Q”)\, 12125 Robert Larson Blvd\, Las Cruces\, NM\, 88007
CATEGORIES:SNMNS
ORGANIZER;CN="SNMNS":MAILTO:info@swmodelrailroaders.org
END:VEVENT
BEGIN:VEVENT
DTSTART;TZID=America/Denver:20240815T190000
DTEND;TZID=America/Denver:20240815T210000
DTSTAMP:20260421T011238
CREATED:20240805T234934Z
LAST-MODIFIED:20240805T234934Z
UID:2071-1723748400-1723755600@www.swmodelrailroaders.org
SUMMARY:EPMR Run Night
DESCRIPTION:Run Night \nOpen to all members and their guests
URL:https://www.swmodelrailroaders.org/event/epmr-run-night-5/
LOCATION:RMHAEP HQ\, 6335 Vaughn Court\, El Paso\, TX\, United States
CATEGORIES:RMHAEP
END:VEVENT
BEGIN:VEVENT
DTSTART;TZID=America/Denver:20240812T183000
DTEND;TZID=America/Denver:20240812T203000
DTSTAMP:20260421T011238
CREATED:20240805T234101Z
LAST-MODIFIED:20240805T234101Z
UID:2065-1723487400-1723494600@www.swmodelrailroaders.org
SUMMARY:SNMNS Monday Evening Work Session
DESCRIPTION:Regularly Scheduled SNMNS Evening Work Session \n6:30PM to 8:30PM \nTo get there\, use the West Gate of the Fairgrounds and follow the red arrow to get to the center Quonset hut.
URL:https://www.swmodelrailroaders.org/event/snmns-monday-evening-work-session-3/
LOCATION:Southern New Mexico N Scalers Headquarters (AKA the “Q”)\, 12125 Robert Larson Blvd\, Las Cruces\, NM\, 88007
CATEGORIES:SNMNS
ORGANIZER;CN="SNMNS":MAILTO:info@swmodelrailroaders.org
END:VEVENT
BEGIN:VEVENT
DTSTART;TZID=America/Denver:20240808T190000
DTEND;TZID=America/Denver:20240808T210000
DTSTAMP:20260421T011238
CREATED:20240805T234805Z
LAST-MODIFIED:20240805T234805Z
UID:2069-1723143600-1723150800@www.swmodelrailroaders.org
SUMMARY:EPMR Board Meeting and Run Night
DESCRIPTION:Regularly Scheduled EPMR Board Meeting \nRun Night \n7PM to 9PM
URL:https://www.swmodelrailroaders.org/event/epmr-board-meeting-and-run-night-2/
LOCATION:Southern New Mexico N Scalers Headquarters (AKA the “Q”)\, 12125 Robert Larson Blvd\, Las Cruces\, NM\, 88007
CATEGORIES:RMHAEP
END:VEVENT
BEGIN:VEVENT
DTSTART;TZID=America/Denver:20240808T100000
DTEND;TZID=America/Denver:20240808T140000
DTSTAMP:20260421T011238
CREATED:20240805T233741Z
LAST-MODIFIED:20240805T233741Z
UID:2061-1723111200-1723125600@www.swmodelrailroaders.org
SUMMARY:SNMNS Thursday Work Session
DESCRIPTION:Regularly Scheduled SNMNS Work Day \n10AM to 2PM \nTo get there\, use the West Gate of the Fairgrounds and follow the red arrow to get to the center Quonset hut. \n \n 
URL:https://www.swmodelrailroaders.org/event/snmns-thursday-work-session-4/
LOCATION:Southern New Mexico N Scalers Headquarters (AKA the “Q”)\, 12125 Robert Larson Blvd\, Las Cruces\, NM\, 88007
CATEGORIES:SNMNS
ORGANIZER;CN="SNMNS":MAILTO:info@swmodelrailroaders.org
END:VEVENT
BEGIN:VEVENT
DTSTART;TZID=America/Denver:20240801T190000
DTEND;TZID=America/Denver:20240801T210000
DTSTAMP:20260421T011238
CREATED:20240623T180025Z
LAST-MODIFIED:20240623T180025Z
UID:2032-1722538800-1722546000@www.swmodelrailroaders.org
SUMMARY:EPMR Full Membership Meeting
DESCRIPTION:The Full Membership Meeting for the El Paso Model Railroad and Historical Association will be held on Thursday August 1 at 7PM. \nThe primary topic will be a large expenditure for a new heating and cooling system for the building.
URL:https://www.swmodelrailroaders.org/event/epmr-full-membership-meeting/
LOCATION:RMHAEP HQ\, 6335 Vaughn Court\, El Paso\, TX\, United States
CATEGORIES:RMHAEP
END:VEVENT
BEGIN:VEVENT
DTSTART;TZID=America/Denver:20240729T183000
DTEND;TZID=America/Denver:20240729T203000
DTSTAMP:20260421T011238
CREATED:20240623T174812Z
LAST-MODIFIED:20240623T174958Z
UID:2029-1722277800-1722285000@www.swmodelrailroaders.org
SUMMARY:SNMNS Monday Evening Work Session
DESCRIPTION:Regularly Scheduled SNMNS Evening Work Session \n6:30PM to 8:30PM \nTo get there\, use the West Gate of the Fairgrounds and follow the red arrow to get to the center Quonset hut.
URL:https://www.swmodelrailroaders.org/event/snmns-evening-work-session/
LOCATION:Southern New Mexico N Scalers Headquarters (AKA the “Q”)\, 12125 Robert Larson Blvd\, Las Cruces\, NM\, 88007
CATEGORIES:SNMNS
END:VEVENT
BEGIN:VEVENT
DTSTART;TZID=America/Denver:20240725T190000
DTEND;TZID=America/Denver:20240725T210000
DTSTAMP:20260421T011238
CREATED:20240623T181344Z
LAST-MODIFIED:20240623T181344Z
UID:2038-1721934000-1721941200@www.swmodelrailroaders.org
SUMMARY:EPMR Clinic and Run Night
DESCRIPTION:Regularly Scheduled Clinic – Topic TBD \nRun Night
URL:https://www.swmodelrailroaders.org/event/epmr-clinic-and-run-night/
LOCATION:RMHAEP HQ\, 6335 Vaughn Court\, El Paso\, TX\, United States
CATEGORIES:RMHAEP
END:VEVENT
BEGIN:VEVENT
DTSTART;TZID=America/Denver:20240725T100000
DTEND;TZID=America/Denver:20240725T140000
DTSTAMP:20260421T011238
CREATED:20240623T174136Z
LAST-MODIFIED:20240623T174136Z
UID:2024-1721901600-1721916000@www.swmodelrailroaders.org
SUMMARY:SNMNS Thursday Work Session
DESCRIPTION:Regularly Scheduled SNMNS Work Day \n10AM to 2PM \nTo get there\, use the West Gate of the Fairgrounds and follow the red arrow to get to the center Quonset hut.
URL:https://www.swmodelrailroaders.org/event/snmns-thursday-work-session-3/
LOCATION:Southern New Mexico N Scalers Headquarters (AKA the “Q”)\, 12125 Robert Larson Blvd\, Las Cruces\, NM\, 88007
CATEGORIES:SNMNS
END:VEVENT
BEGIN:VEVENT
DTSTART;TZID=America/Denver:20240720T100000
DTEND;TZID=America/Denver:20240720T140000
DTSTAMP:20260421T011238
CREATED:20240623T173818Z
LAST-MODIFIED:20240623T173944Z
UID:2020-1721469600-1721484000@www.swmodelrailroaders.org
SUMMARY:SNMNS Meeting and Work Session
DESCRIPTION:Regularly Scheduled SNMNS Meeting \nWe’re likely to be continuing work on the layout modifications\, probably no running this day. \n10AM to 2PM \nTo get there\, use the West Gate of the Fairgrounds and follow the red arrow to get to the center Quonset hut.
URL:https://www.swmodelrailroaders.org/event/snmns-meeting-and-work-day/
LOCATION:Southern New Mexico N Scalers Headquarters (AKA the “Q”)\, 12125 Robert Larson Blvd\, Las Cruces\, NM\, 88007
CATEGORIES:SNMNS
END:VEVENT
BEGIN:VEVENT
DTSTART;TZID=America/Denver:20240718T190000
DTEND;TZID=America/Denver:20240718T210000
DTSTAMP:20260421T011238
CREATED:20240623T181038Z
LAST-MODIFIED:20240623T181114Z
UID:2036-1721329200-1721336400@www.swmodelrailroaders.org
SUMMARY:EPMR Run Night
DESCRIPTION:Regularly Scheduled Run Night \n7 – 9 PM
URL:https://www.swmodelrailroaders.org/event/epmr-run-night-4/
LOCATION:RMHAEP HQ\, 6335 Vaughn Court\, El Paso\, TX\, United States
CATEGORIES:RMHAEP
END:VEVENT
BEGIN:VEVENT
DTSTART;TZID=America/Denver:20240715T183000
DTEND;TZID=America/Denver:20240715T203000
DTSTAMP:20260421T011238
CREATED:20240623T174424Z
LAST-MODIFIED:20240623T174523Z
UID:2026-1721068200-1721075400@www.swmodelrailroaders.org
SUMMARY:SNMNS Monday Evening Work Session
DESCRIPTION:Regularly Scheduled SNMNS Evening Work Session \n6:30PM to 8:30PM \nTo get there\, use the West Gate of the Fairgrounds and follow the red arrow to get to the center Quonset hut.
URL:https://www.swmodelrailroaders.org/event/snmns-monday-evening-work-session-2/
LOCATION:Southern New Mexico N Scalers Headquarters (AKA the “Q”)\, 12125 Robert Larson Blvd\, Las Cruces\, NM\, 88007
CATEGORIES:SNMNS
END:VEVENT
END:VCALENDAR