BEGIN:VCALENDAR
VERSION:2.0
PRODID:-//NMRA RMR Roadrunners - Division 07 - ECPv6.15.20//NONSGML v1.0//EN
CALSCALE:GREGORIAN
METHOD:PUBLISH
X-WR-CALNAME:NMRA RMR Roadrunners - Division 07
X-ORIGINAL-URL:https://www.swmodelrailroaders.org
X-WR-CALDESC:Events for NMRA RMR Roadrunners - Division 07
REFRESH-INTERVAL;VALUE=DURATION:PT1H
X-Robots-Tag:noindex
X-PUBLISHED-TTL:PT1H
BEGIN:VTIMEZONE
TZID:America/Denver
BEGIN:DAYLIGHT
TZOFFSETFROM:-0700
TZOFFSETTO:-0600
TZNAME:MDT
DTSTART:20230312T090000
END:DAYLIGHT
BEGIN:STANDARD
TZOFFSETFROM:-0600
TZOFFSETTO:-0700
TZNAME:MST
DTSTART:20231105T080000
END:STANDARD
BEGIN:DAYLIGHT
TZOFFSETFROM:-0700
TZOFFSETTO:-0600
TZNAME:MDT
DTSTART:20240310T090000
END:DAYLIGHT
BEGIN:STANDARD
TZOFFSETFROM:-0600
TZOFFSETTO:-0700
TZNAME:MST
DTSTART:20241103T080000
END:STANDARD
BEGIN:DAYLIGHT
TZOFFSETFROM:-0700
TZOFFSETTO:-0600
TZNAME:MDT
DTSTART:20250309T090000
END:DAYLIGHT
BEGIN:STANDARD
TZOFFSETFROM:-0600
TZOFFSETTO:-0700
TZNAME:MST
DTSTART:20251102T080000
END:STANDARD
END:VTIMEZONE
BEGIN:VEVENT
DTSTART;VALUE=DATE:20240925
DTEND;VALUE=DATE:20240930
DTSTAMP:20260421T005540
CREATED:20240831T191400Z
LAST-MODIFIED:20240831T201808Z
UID:2093-1727222400-1727654399@www.swmodelrailroaders.org
SUMMARY:SNMNS Annual Open House
DESCRIPTION:The SNMNS will be hosting our annual open house during the Southern New Mexico State Fair \nCome see us any time the fair is open!
URL:https://www.swmodelrailroaders.org/event/snmns-annual-open-house/
LOCATION:NM
CATEGORIES:SNMNS
END:VEVENT
END:VCALENDAR